BEGIN:VCALENDAR
VERSION:2.0
PRODID:-//Amis de Chabrillan - ECPv6.8.1//NONSGML v1.0//EN
CALSCALE:GREGORIAN
METHOD:PUBLISH
X-ORIGINAL-URL:https://amis-chabrillan.fr
X-WR-CALDESC:Évènements pour Amis de Chabrillan
REFRESH-INTERVAL;VALUE=DURATION:PT1H
X-Robots-Tag:noindex
X-PUBLISHED-TTL:PT1H
BEGIN:VTIMEZONE
TZID:UTC
BEGIN:STANDARD
TZOFFSETFROM:+0000
TZOFFSETTO:+0000
TZNAME:UTC
DTSTART:20250101T000000
END:STANDARD
END:VTIMEZONE
BEGIN:VEVENT
DTSTART;TZID=UTC:20250201T080000
DTEND;TZID=UTC:20250228T170000
DTSTAMP:20260422T125304
CREATED:20250117T094933Z
LAST-MODIFIED:20250117T094933Z
UID:1802-1738396800-1740762000@amis-chabrillan.fr
SUMMARY:Peinture café Bib
DESCRIPTION:Danielle W.RENARD
URL:https://amis-chabrillan.fr/event/peinture-cafe-bib/
END:VEVENT
BEGIN:VEVENT
DTSTART;TZID=UTC:20250214T080000
DTEND;TZID=UTC:20250214T170000
DTSTAMP:20260422T125304
CREATED:20250117T094644Z
LAST-MODIFIED:20250117T094644Z
UID:1800-1739520000-1739552400@amis-chabrillan.fr
SUMMARY:Assemblée Générale
DESCRIPTION:
URL:https://amis-chabrillan.fr/event/assemblee-generale/
END:VEVENT
BEGIN:VEVENT
DTSTART;TZID=UTC:20250216T193000
DTEND;TZID=UTC:20250216T210000
DTSTAMP:20260422T125304
CREATED:20250214T203050Z
LAST-MODIFIED:20250117T084757Z
UID:1785-1739734200-1739739600@amis-chabrillan.fr
SUMMARY:AG Amis de Chabrillan
DESCRIPTION:
URL:https://amis-chabrillan.fr/event/ag-amis-de-chabrillan/
END:VEVENT
END:VCALENDAR