BEGIN:VCALENDAR
VERSION:2.0
PRODID:-//Amis de Chabrillan - ECPv6.8.1//NONSGML v1.0//EN
CALSCALE:GREGORIAN
METHOD:PUBLISH
X-WR-CALNAME:Amis de Chabrillan
X-ORIGINAL-URL:https://amis-chabrillan.fr
X-WR-CALDESC:Évènements pour Amis de Chabrillan
REFRESH-INTERVAL;VALUE=DURATION:PT1H
X-Robots-Tag:noindex
X-PUBLISHED-TTL:PT1H
BEGIN:VTIMEZONE
TZID:UTC
BEGIN:STANDARD
TZOFFSETFROM:+0000
TZOFFSETTO:+0000
TZNAME:UTC
DTSTART:20240101T000000
END:STANDARD
END:VTIMEZONE
BEGIN:VEVENT
DTSTART;TZID=UTC:20260206T183000
DTEND;TZID=UTC:20260206T200000
DTSTAMP:20260421T175416
CREATED:20260122T051228Z
LAST-MODIFIED:20260204T092032Z
UID:2306-1770402600-1770408000@amis-chabrillan.fr
SUMMARY:AG 2026
DESCRIPTION:AG \nvendredi 6 salle polyvalente 19h30
URL:https://amis-chabrillan.fr/event/2306/
END:VEVENT
BEGIN:VEVENT
DTSTART;VALUE=DATE:20260131
DTEND;VALUE=DATE:20260303
DTSTAMP:20260421T175416
CREATED:20260117T041446Z
LAST-MODIFIED:20260117T042755Z
UID:2299-1769817600-1772495999@amis-chabrillan.fr
SUMMARY:expo BURDIN Laurence  café bib
DESCRIPTION:
URL:https://amis-chabrillan.fr/event/expo-burdin-laurence/
END:VEVENT
BEGIN:VEVENT
DTSTART;TZID=UTC:20251119T200000
DTEND;TZID=UTC:20251121T080000
DTSTAMP:20260421T175416
CREATED:20241115T114927Z
LAST-MODIFIED:20260223T102633Z
UID:1729-1763582400-1763712000@amis-chabrillan.fr
SUMMARY:CALENDRIER
DESCRIPTION:cliquez sur: « tous les événements »
URL:https://amis-chabrillan.fr/event/la-resistance/
END:VEVENT
BEGIN:VEVENT
DTSTART;TZID=UTC:20251004T170000
DTEND;TZID=UTC:20251004T190000
DTSTAMP:20260421T175416
CREATED:20251002T061942Z
LAST-MODIFIED:20251002T061942Z
UID:2066-1759597200-1759604400@amis-chabrillan.fr
SUMMARY:Art roman
DESCRIPTION:
URL:https://amis-chabrillan.fr/event/art-roman/
END:VEVENT
BEGIN:VEVENT
DTSTART;TZID=UTC:20250712T080000
DTEND;TZID=UTC:20250921T170000
DTSTAMP:20260421T175416
CREATED:20241117T211035Z
LAST-MODIFIED:20241117T211302Z
UID:1736-1752307200-1758474000@amis-chabrillan.fr
SUMMARY:Les chèvres et les chats
DESCRIPTION:
URL:https://amis-chabrillan.fr/event/les-chevres-et-las-chats/
ATTACH;FMTTYPE=image/jpeg:https://amis-chabrillan.fr/wp-content/uploads/2024/11/Flyer-1-chat.jpg
END:VEVENT
BEGIN:VEVENT
DTSTART;TZID=UTC:20250518T080000
DTEND;TZID=UTC:20250518T170000
DTSTAMP:20260421T175416
CREATED:20241125T070853Z
LAST-MODIFIED:20241125T070952Z
UID:1759-1747555200-1747587600@amis-chabrillan.fr
SUMMARY:Journée des peintres
DESCRIPTION:Le dimanche 18 mai 2025
URL:https://amis-chabrillan.fr/event/journee-des-peintres/
END:VEVENT
BEGIN:VEVENT
DTSTART;TZID=UTC:20250216T193000
DTEND;TZID=UTC:20250216T210000
DTSTAMP:20260421T175416
CREATED:20250214T203050Z
LAST-MODIFIED:20250117T084757Z
UID:1785-1739734200-1739739600@amis-chabrillan.fr
SUMMARY:AG Amis de Chabrillan
DESCRIPTION:
URL:https://amis-chabrillan.fr/event/ag-amis-de-chabrillan/
END:VEVENT
BEGIN:VEVENT
DTSTART;TZID=UTC:20250214T080000
DTEND;TZID=UTC:20250214T170000
DTSTAMP:20260421T175416
CREATED:20250117T094644Z
LAST-MODIFIED:20250117T094644Z
UID:1800-1739520000-1739552400@amis-chabrillan.fr
SUMMARY:Assemblée Générale
DESCRIPTION:
URL:https://amis-chabrillan.fr/event/assemblee-generale/
END:VEVENT
BEGIN:VEVENT
DTSTART;TZID=UTC:20250201T080000
DTEND;TZID=UTC:20250228T170000
DTSTAMP:20260421T175416
CREATED:20250117T094933Z
LAST-MODIFIED:20250117T094933Z
UID:1802-1738396800-1740762000@amis-chabrillan.fr
SUMMARY:Peinture café Bib
DESCRIPTION:Danielle W.RENARD
URL:https://amis-chabrillan.fr/event/peinture-cafe-bib/
END:VEVENT
BEGIN:VEVENT
DTSTART;TZID=UTC:20241115T080000
DTEND;TZID=UTC:20241221T170000
DTSTAMP:20260421T175416
CREATED:20241115T120302Z
LAST-MODIFIED:20241123T043510Z
UID:1734-1731657600-1734800400@amis-chabrillan.fr
SUMMARY:expo peinture cafe bib
DESCRIPTION:Nina GALLINI \nNina Gallini\, artiste peintre\, surréaliste\, abstraite\, s’est installée dans la région en 2017. Intermittente du spectacle à Paris\, elle pratique son art depuis 40 ans. Après des débuts dans le figuratif et la reprise d’œuvres de grands peintres\, elle s’est orientée vers un monde surréaliste\, abstrait à travers différentes techniques\, comme le couteau\, le pinceau\, le pouring. \nVous vous laisserez entrainer  à travers ses couleurs vives\, mordorées\, ses formes\, ses projections dans son imaginaire très riche\, onirique et métaphysique. A voir et apprécier absolument ! \nNous vous attendons nombreux. \n   \nPeinture  couteau et pinceau
URL:https://amis-chabrillan.fr/event/expo-peinture-cafe-bib/
LOCATION:chabrillan\, chabrillan\, 26400
ATTACH;FMTTYPE=image/jpeg:https://amis-chabrillan.fr/wp-content/uploads/2024/11/1732288068035-a4e45337-814b-40d7-bb4a-841a68de4345_-scaled.jpg
END:VEVENT
END:VCALENDAR