BEGIN:VCALENDAR
VERSION:2.0
PRODID:-//Amis de Chabrillan - ECPv6.8.1//NONSGML v1.0//EN
CALSCALE:GREGORIAN
METHOD:PUBLISH
X-WR-CALNAME:Amis de Chabrillan
X-ORIGINAL-URL:https://amis-chabrillan.fr
X-WR-CALDESC:Évènements pour Amis de Chabrillan
REFRESH-INTERVAL;VALUE=DURATION:PT1H
X-Robots-Tag:noindex
X-PUBLISHED-TTL:PT1H
BEGIN:VTIMEZONE
TZID:UTC
BEGIN:STANDARD
TZOFFSETFROM:+0000
TZOFFSETTO:+0000
TZNAME:UTC
DTSTART:20250101T000000
END:STANDARD
END:VTIMEZONE
BEGIN:VEVENT
DTSTART;TZID=UTC:20251004T170000
DTEND;TZID=UTC:20251004T190000
DTSTAMP:20260422T014833
CREATED:20251002T061942Z
LAST-MODIFIED:20251002T061942Z
UID:2066-1759597200-1759604400@amis-chabrillan.fr
SUMMARY:Art roman
DESCRIPTION:
URL:https://amis-chabrillan.fr/event/art-roman/
END:VEVENT
END:VCALENDAR